BEGIN:VCALENDAR
VERSION:2.0
PRODID:-//Orlando Hot Yoga &amp; Pilates - ECPv6.15.18//NONSGML v1.0//EN
CALSCALE:GREGORIAN
METHOD:PUBLISH
X-WR-CALNAME:Orlando Hot Yoga &amp; Pilates
X-ORIGINAL-URL:https://orlandohotyoga.com
X-WR-CALDESC:Events for Orlando Hot Yoga &amp; Pilates
REFRESH-INTERVAL;VALUE=DURATION:PT1H
X-Robots-Tag:noindex
X-PUBLISHED-TTL:PT1H
BEGIN:VTIMEZONE
TZID:UTC
BEGIN:STANDARD
TZOFFSETFROM:+0000
TZOFFSETTO:+0000
TZNAME:UTC
DTSTART:20250101T000000
END:STANDARD
END:VTIMEZONE
BEGIN:VEVENT
DTSTART;TZID=UTC:20260425T183000
DTEND;TZID=UTC:20260425T193000
DTSTAMP:20260421T173124
CREATED:20260409T013014Z
LAST-MODIFIED:20260409T013314Z
UID:3451-1777141800-1777145400@orlandohotyoga.com
SUMMARY:Salsa Dance Class
DESCRIPTION:Join us for a fun\, high-energy night of movement\, music\, and connection. Led by international Latin Dance Instructor\, Dair Fernandez\, we’ll learn some salsa basics along with musicality\, footwork\, and more! Come solo or bring a partner\, this class is for everyone! Barefoot or sneakers recommended.
URL:https://orlandohotyoga.com/event/salsa-dance-class/
LOCATION:The Studio\, 5302 Central Florida Pkwy.\, Orlando\, FL\, 32821\, United States
END:VEVENT
END:VCALENDAR